BEGIN:VCALENDAR
VERSION:2.0
PRODID:-//BC Stoahupfa Leibnitz - ECPv6.15.20//NONSGML v1.0//EN
CALSCALE:GREGORIAN
METHOD:PUBLISH
X-WR-CALNAME:BC Stoahupfa Leibnitz
X-ORIGINAL-URL:https://www.stoahupfa.com
X-WR-CALDESC:Veranstaltungen für BC Stoahupfa Leibnitz
REFRESH-INTERVAL;VALUE=DURATION:PT1H
X-Robots-Tag:noindex
X-PUBLISHED-TTL:PT1H
BEGIN:VTIMEZONE
TZID:Europe/Vienna
BEGIN:DAYLIGHT
TZOFFSETFROM:+0100
TZOFFSETTO:+0200
TZNAME:CEST
DTSTART:20250330T010000
END:DAYLIGHT
BEGIN:STANDARD
TZOFFSETFROM:+0200
TZOFFSETTO:+0100
TZNAME:CET
DTSTART:20251026T010000
END:STANDARD
BEGIN:DAYLIGHT
TZOFFSETFROM:+0100
TZOFFSETTO:+0200
TZNAME:CEST
DTSTART:20260329T010000
END:DAYLIGHT
BEGIN:STANDARD
TZOFFSETFROM:+0200
TZOFFSETTO:+0100
TZNAME:CET
DTSTART:20261025T010000
END:STANDARD
BEGIN:DAYLIGHT
TZOFFSETFROM:+0100
TZOFFSETTO:+0200
TZNAME:CEST
DTSTART:20270328T010000
END:DAYLIGHT
BEGIN:STANDARD
TZOFFSETFROM:+0200
TZOFFSETTO:+0100
TZNAME:CET
DTSTART:20271031T010000
END:STANDARD
END:VTIMEZONE
BEGIN:VEVENT
DTSTART;TZID=Europe/Vienna:20260523T123000
DTEND;TZID=Europe/Vienna:20260523T180000
DTSTAMP:20260422T203003
CREATED:20260331T061155Z
LAST-MODIFIED:20260331T061155Z
UID:66538-1779539400-1779559200@www.stoahupfa.com
SUMMARY:KULT(O)UR
DESCRIPTION:
URL:https://www.stoahupfa.com/kalender/kultour/
LOCATION:Rathaus Leibnitz
CATEGORIES:Cross Country
END:VEVENT
END:VCALENDAR