BEGIN:VCALENDAR
VERSION:2.0
PRODID:-//BC Stoahupfa Leibnitz - ECPv6.15.20//NONSGML v1.0//EN
CALSCALE:GREGORIAN
METHOD:PUBLISH
X-WR-CALNAME:BC Stoahupfa Leibnitz
X-ORIGINAL-URL:https://www.stoahupfa.com
X-WR-CALDESC:Veranstaltungen für BC Stoahupfa Leibnitz
REFRESH-INTERVAL;VALUE=DURATION:PT1H
X-Robots-Tag:noindex
X-PUBLISHED-TTL:PT1H
BEGIN:VTIMEZONE
TZID:Europe/Vienna
BEGIN:DAYLIGHT
TZOFFSETFROM:+0100
TZOFFSETTO:+0200
TZNAME:CEST
DTSTART:20250330T010000
END:DAYLIGHT
BEGIN:STANDARD
TZOFFSETFROM:+0200
TZOFFSETTO:+0100
TZNAME:CET
DTSTART:20251026T010000
END:STANDARD
BEGIN:DAYLIGHT
TZOFFSETFROM:+0100
TZOFFSETTO:+0200
TZNAME:CEST
DTSTART:20260329T010000
END:DAYLIGHT
BEGIN:STANDARD
TZOFFSETFROM:+0200
TZOFFSETTO:+0100
TZNAME:CET
DTSTART:20261025T010000
END:STANDARD
BEGIN:DAYLIGHT
TZOFFSETFROM:+0100
TZOFFSETTO:+0200
TZNAME:CEST
DTSTART:20270328T010000
END:DAYLIGHT
BEGIN:STANDARD
TZOFFSETFROM:+0200
TZOFFSETTO:+0100
TZNAME:CET
DTSTART:20271031T010000
END:STANDARD
END:VTIMEZONE
BEGIN:VEVENT
DTSTART;TZID=Europe/Vienna:20260906T093000
DTEND;TZID=Europe/Vienna:20260906T120000
DTSTAMP:20260423T013811
CREATED:20260224T191939Z
LAST-MODIFIED:20260224T192250Z
UID:66499-1788687000-1788696000@www.stoahupfa.com
SUMMARY:Clubmeisterschaft Marathon
DESCRIPTION:
URL:https://www.stoahupfa.com/kalender/clubmeisterschaft-marathon/
LOCATION:Rathaus Leibnitz
CATEGORIES:Cross Country
END:VEVENT
END:VCALENDAR